BEGIN:VCALENDAR
VERSION:2.0
PRODID:-//Library Market//iCal Export//EN
BEGIN:VEVENT
SUMMARY:Meeting
UID:90559
DTSTAMP:20260421T142200Z
DTSTART:20260605T190000Z
DTEND:20260605T200000Z
LOCATION:Dundee Library, 555 Barrington Avenue, East Dundee, IL 60118, Uni
 ted States
ROOM: Craft Room
DESCRIPTION:Public Bid
URL:https://www.frvpld.info/event/meeting-90559
END:VEVENT
END:VCALENDAR
